BEGIN:VCALENDAR
VERSION:2.0
METHOD:PUBLISH
BEGIN:VEVENT
UID:WILD_APRICOT_EVENT_2912227_SESSION_1
DTSTART:20181123T230000Z
DTEND:20181124T010000Z
SUMMARY:ATF Monthly Member Meeting - Central Coast
LOCATION:Cancer Council Office (near Hoyts)\, Terrigal Drive\, Erina Fair. NSW
DESCRIPTION:https://www.thyroidfoundation.org.au/event-2912227\n\n\nHave a coffee with other ATF Members and enjoy the information and support you receive from others attending The Central Coast Member’s Meeting. \n  Australia can be a remote place when you are dealing with health problems on your own. Unfortunately doctors in country and city areas don’t always know enough about the symptoms and diagnosis of thyroid disorders or have the time we need from them when we are unwell.\n  The ATF Albury Member Meeting provides you with an opportunity to meet other members who attend local meetings. These meetings are such a valuable asset to members\, with the opportunity to share information and gain support from others attending and the experienced convenor\, in your local area.\n  Local medical and healthcare professionals are invited to speak at Member Meetings. These professionals give up to date information and resources in their presentation and answer questions you may have. Your Convenor will keep you updated on meetings and speakers.\n  Meetings are free to current financial members of The ATF. \n  Non-members are asked to pay $5.00 attendance.\n  \n\n
DTSTAMP:20260424T140623Z
END:VEVENT
END:VCALENDAR
