BEGIN:VCALENDAR
VERSION:2.0
METHOD:PUBLISH
BEGIN:VEVENT
UID:WILD_APRICOT_EVENT_3403309_SESSION_1
DTSTART:20191018T073000Z
DTEND:20191018T123000Z
SUMMARY:The ATF Check Your Neck Gala Ball
LOCATION:‘Deanah’s View Room’ Le Montage\, 38 Frazer Street Lilyfield NSW
DESCRIPTION:https://www.thyroidfoundation.org.au/event-3403309\n\nGather Your Friends\, Family and Work Colleagues and join the ATF for a fun night supporting Good Thyroid Health\n  \nAT THE "ATF CHECK YOUR NECK GALA BALL"\n ON FRIDAY\, 18TH OCTOBER 2019\n  \nWith special guest MC's for the night:\nSusie Burrell (ATF Dietitian & Nutritionist)\n  \n& Chris Smith (Radio)\n  \nBook your seat or a table online at beautiful Le Montage on the waterfront at Lilyfield.\n  \n\n  Plenty of Free Parking Available\n  BOOK YOUR TICKET NOW\n  \nTIME: Arrival 6.30pm for 7.00 pm till 11.30pm\n  Pre-dinner Drinks will be served in the Foyer upon Arrival\n\n  \nDress Code: Cocktail\n  \nCorporate Package Available:\n  Corporates are encouraged to book a table of 10 and receive: Table Signage\, Logo on Event Media Wall\, ATF Website & Social Media pages\n  BOOK YOUR TICKET NOW\n\n  **Don't forget to login to secure your Member's ticket price**\n  \n\n\n  \nThe night will include:\n  A delicious 3 Course Dinner with Drink\, Dancing & Fundraising\, Auctions and Raffles to support the ATF!\n  If you would like more information please email us.\n  MORE INFORMATION\n  \n\n  Plenty more exciting news updates to come!\n  COME AND SUPPORT THE ATF CHECK YOUR NECK GALA BALL\n  \n\n  \nDINNER  |  DANCING  |  FUNDRAISING  |  AUCTIONS & RAFFLES\n  \n\n\n
DTSTAMP:20260424T140941Z
END:VEVENT
END:VCALENDAR
