BEGIN:VCALENDAR
VERSION:2.0
METHOD:PUBLISH
BEGIN:VEVENT
UID:WILD_APRICOT_EVENT_3764402_SESSION_1
DTSTART:20200306T233000Z
DTEND:20200307T033000Z
SUMMARY:2019-20 ATF Annual General Meeting
LOCATION:Norman Nock Room\, Level 5\, Kolling Institute\, Royal North Shore Hospital Campus\, St Leonards NSW 2065
DESCRIPTION:https://www.thyroidfoundation.org.au/event-3764402\n\n2019/20 Annual General Meeting - 7th March 2020 - Including Ask The Expert Q&A\n  Jess Hall\, ATF Ambassador & 2019 MasterChef Contestant\, will be catering for the meeting. Come and meet Jess and enjoy some culinary delights prepared by Jess!\n  It is essential you confirm your attendance by Friday 28 February. Please call Cheryl – 0416 100 284 or email - membership@thyroidfoundation.org.au Please also let us know if you have any dietary needs.\n  Following the AGM\, Ask The Expert – Q & A will be presented by ATF Medical Advisors – Prof Creswell Eastman AO\, Prof Leigh Delbridge and Prof Bruce Robinson AC. This is a great opportunity to have your thyroid questions answered by our ATF Experts.\n  A webcast will also be available to connect if you cannot attend in person. To register for the webcast\, current ATF members should email membership@thyroidfoundation.org.au\n  \n\n
DTSTAMP:20260424T142035Z
END:VEVENT
END:VCALENDAR
